BEGIN:VCALENDAR
VERSION:2.0
PRODID:-//ChamberMaster//Event Calendar 2.0//EN
METHOD:PUBLISH
X-PUBLISHED-TTL:P3D
REFRESH-INTERVAL:P3D
CALSCALE:GREGORIAN
BEGIN:VEVENT
DTSTART:20111110T043000Z
DTEND:20111109T181500Z
X-MICROSOFT-CDO-ALLDAYEVENT:FALSE
SUMMARY:Businesswoman of the Year
DESCRIPTION:Business Women in Business
X-ALT-DESC;FMTTYPE=text/html:Business Women in Business<br />\n
LOCATION:The Georgia Club
UID:e.363.3694
SEQUENCE:3
DTSTAMP:20260424T025408Z
URL:https://barrowcm.365dtm.com/events/details/businesswoman-of-the-year-11-09-2011-3694
END:VEVENT

END:VCALENDAR
