BEGIN:VCALENDAR
VERSION:2.0
PRODID:-//ChamberMaster//Event Calendar 2.0//EN
METHOD:PUBLISH
X-PUBLISHED-TTL:P3D
REFRESH-INTERVAL:P3D
CALSCALE:GREGORIAN
BEGIN:VEVENT
DTSTART:20101110T163000Z
DTEND:20101110T183000Z
X-MICROSOFT-CDO-ALLDAYEVENT:FALSE
SUMMARY:Businesswoman of the Year
DESCRIPTION:Businesswoman of the Year Luncheon\n\n\n\nGuest Speaker will be Suzanne Yoculan
X-ALT-DESC;FMTTYPE=text/html:Businesswoman of the Year Luncheon<br />\n<br />\nGuest Speaker will be Suzanne Yoculan<br />\n
LOCATION:The Georiga Club 1050 Chancellors Drive Statham\, Ga
UID:e.363.3564
SEQUENCE:3
DTSTAMP:20260424T200622Z
URL:https://barrowcm.365dtm.com/events/details/businesswoman-of-the-year-11-10-2010-3564
END:VEVENT

END:VCALENDAR
