BEGIN:VCALENDAR
VERSION:2.0
PRODID:-//ChamberMaster//Event Calendar 2.0//EN
METHOD:PUBLISH
X-PUBLISHED-TTL:P3D
REFRESH-INTERVAL:P3D
CALSCALE:GREGORIAN
BEGIN:VEVENT
DTSTART:20141118T163000Z
DTEND:20141118T180000Z
X-MICROSOFT-CDO-ALLDAYEVENT:FALSE
SUMMARY:Businesswoman of the Year
DESCRIPTION:Businesswoman of the Year Lunch\n\nGuest Speaker: Monica Kaufman
X-ALT-DESC;FMTTYPE=text/html:Businesswoman of the Year Lunch<br />\nGuest Speaker: Monica Kaufman
LOCATION:The Georgia Club
UID:e.363.5458
SEQUENCE:3
DTSTAMP:20260421T171727Z
URL:https://barrowcm.365dtm.com/events/details/businesswoman-of-the-year-11-18-2014-5458
END:VEVENT

END:VCALENDAR
