BEGIN:VCALENDAR
VERSION:2.0
PRODID:-//ChamberMaster//Event Calendar 2.0//EN
METHOD:PUBLISH
X-PUBLISHED-TTL:P3D
REFRESH-INTERVAL:P3D
CALSCALE:GREGORIAN
BEGIN:VEVENT
DTSTART:20090826T040000Z
DTEND:20090826T170000Z
X-MICROSOFT-CDO-ALLDAYEVENT:FALSE
SUMMARY:BYP August Lunch and Learn
DESCRIPTION:Please join us for lunch with Ms. Diana Rosado\, United States Census Bureau.\nWe look forward to hearing about why the census matters and how it affects Barrow.\nWe're still seeking a lunch sponsor and location for this event.
X-ALT-DESC;FMTTYPE=text/html:Please join us for lunch with Ms. Diana Rosado\, United States Census Bureau.\nWe look forward to hearing about why the census matters and how it affects Barrow.\nWe're still seeking a lunch sponsor and location for this event.  
LOCATION:TBA
UID:e.363.3041
SEQUENCE:3
DTSTAMP:20260425T185344Z
URL:https://barrowcm.365dtm.com/events/details/byp-august-lunch-and-learn-08-26-2009-3041
END:VEVENT

END:VCALENDAR
