BEGIN:VCALENDAR
VERSION:2.0
PRODID:-//ChamberMaster//Event Calendar 2.0//EN
METHOD:PUBLISH
X-PUBLISHED-TTL:P3D
REFRESH-INTERVAL:P3D
CALSCALE:GREGORIAN
BEGIN:VEVENT
DTSTART:20090813T213000Z
DTEND:20090813T233000Z
X-MICROSOFT-CDO-ALLDAYEVENT:FALSE
SUMMARY:BYP General Meeting and Pub Club Social
DESCRIPTION:Please join us for updates on our upcoming fund-raiser\, upcoming events\, and discussion of opportunites to be involved in shaping Barrow's future identified by our group. Following the meeting\, we hope you'll stay for informal networking and socializing
X-ALT-DESC;FMTTYPE=text/html:<div>Please join us for updates on our upcoming fund-raiser\, upcoming events\, and discussion of opportunites to be involved in shaping Barrow&rsquo\;s future identified by our group. Following the meeting\, we hope you&rsquo\;ll stay for informal networking and socializing</div>
LOCATION:Loco's --34 N.Broad Street\, Winder
UID:e.363.3040
SEQUENCE:3
DTSTAMP:20260425T190141Z
URL:https://barrowcm.365dtm.com/events/details/byp-general-meeting-and-pub-club-social-08-13-2009-3040
END:VEVENT

END:VCALENDAR
