BEGIN:VCALENDAR
VERSION:2.0
PRODID:-//ChamberMaster//Event Calendar 2.0//EN
METHOD:PUBLISH
X-PUBLISHED-TTL:P3D
REFRESH-INTERVAL:P3D
CALSCALE:GREGORIAN
BEGIN:VEVENT
DTSTART:20090729T160000Z
DTEND:20090729T170000Z
X-MICROSOFT-CDO-ALLDAYEVENT:FALSE
SUMMARY:BYP July Lunch and Learn
DESCRIPTION:Please join BYP for the July installment of our Lunch and Learn series\, featuring remarks by\, Mayor of Winder\, Chip Thompson.  Come hear about whats going on in Winder and how it may affect you.\nLocation TBD and we are still seeking a lunch sponsor!
X-ALT-DESC;FMTTYPE=text/html:Please join BYP for the July installment of our Lunch and Learn series\, featuring remarks by\, Mayor of Winder\, Chip Thompson.  Come hear about whats going on in Winder and how it may affect you.\nLocation TBD and we are still seeking a lunch sponsor!\n
LOCATION:TBD
UID:e.363.3025
SEQUENCE:3
DTSTAMP:20260425T202057Z
URL:https://barrowcm.365dtm.com/events/details/byp-july-lunch-and-learn-07-29-2009-3025
END:VEVENT

END:VCALENDAR
