BEGIN:VCALENDAR
VERSION:2.0
PRODID:-//ChamberMaster//Event Calendar 2.0//EN
METHOD:PUBLISH
X-PUBLISHED-TTL:P3D
REFRESH-INTERVAL:P3D
CALSCALE:GREGORIAN
BEGIN:VEVENT
DTSTART:20090709T213000Z
DTEND:20090709T233000Z
X-MICROSOFT-CDO-ALLDAYEVENT:FALSE
SUMMARY:BYP Pub Club Social
DESCRIPTION:Please join us for an informal networking and socializing event at Ge Ge's in Downtown Winder.
X-ALT-DESC;FMTTYPE=text/html:Please join us for an informal networking and socializing event at Ge Ge's in Downtown Winder.
LOCATION:84 North Broad Street\, Winder
UID:e.363.3023
SEQUENCE:3
DTSTAMP:20260425T202349Z
URL:https://barrowcm.365dtm.com/events/details/byp-pub-club-social-07-09-2009-3023
END:VEVENT

END:VCALENDAR
