BEGIN:VCALENDAR
VERSION:2.0
PRODID:-//ChamberMaster//Event Calendar 2.0//EN
METHOD:PUBLISH
X-PUBLISHED-TTL:P3D
REFRESH-INTERVAL:P3D
CALSCALE:GREGORIAN
BEGIN:VEVENT
DTSTART:20090718T120000Z
DTEND:20090718T190000Z
X-MICROSOFT-CDO-ALLDAYEVENT:FALSE
SUMMARY:BYP work day with Habitat for Humanity
DESCRIPTION:BYP will be partnering with Barrow County Habitat for Humanity to construct a home for a deserving family at 61 Williamson St\, Winder.  we need lots of volunteers!!!! Please sign up to come by all day or just for a little while - and and all help is appreciated!
X-ALT-DESC;FMTTYPE=text/html:BYP will be partnering with Barrow County Habitat for Humanity to construct a home for a deserving family at 61 Williamson St\, Winder.  we need lots of volunteers!!!! Please sign up to come by all day or just for a little while - and and all help is appreciated!
LOCATION:61 Williamson St\, Winder
UID:e.363.3024
SEQUENCE:3
DTSTAMP:20260425T202258Z
URL:https://barrowcm.365dtm.com/events/details/byp-work-day-with-habitat-for-humanity-07-18-2009-3024
END:VEVENT

END:VCALENDAR
