BEGIN:VCALENDAR
VERSION:2.0
PRODID:-//ChamberMaster//Event Calendar 2.0//EN
METHOD:PUBLISH
X-PUBLISHED-TTL:P3D
REFRESH-INTERVAL:P3D
CALSCALE:GREGORIAN
BEGIN:VEVENT
DTSTART:20130430T150000Z
DTEND:20130430T170000Z
X-MICROSOFT-CDO-ALLDAYEVENT:FALSE
SUMMARY:Canceled -Lunch & Learn
DESCRIPTION:Lunch and Learn- We will reschedule\n\nLearn all about Linkiin
X-ALT-DESC;FMTTYPE=text/html:Lunch and Learn- We will reschedule<br />\nLearn all about Linkiin
LOCATION:Here at the Chamber Office
UID:e.363.4888
SEQUENCE:3
DTSTAMP:20260423T005229Z
URL:https://barrowcm.365dtm.com/events/details/canceled-lunch-learn-04-30-2013-4888
END:VEVENT

END:VCALENDAR
