BEGIN:VCALENDAR
VERSION:2.0
PRODID:-//ChamberMaster//Event Calendar 2.0//EN
METHOD:PUBLISH
X-PUBLISHED-TTL:P3D
REFRESH-INTERVAL:P3D
CALSCALE:GREGORIAN
BEGIN:VEVENT
DTSTART:20090826T134500Z
DTEND:20090826T150000Z
X-MICROSOFT-CDO-ALLDAYEVENT:FALSE
SUMMARY:Cap & Trade Act Forum
DESCRIPTION:A public Forum Discussing the Cap & Trade Act will be offered Guest Speaker: Randall Pugh\, President/CEO of JEMC
X-ALT-DESC;FMTTYPE=text/html:<div>A public Forum Discussing the Cap &amp\; Trade Act will be offered Guest Speaker: Randall Pugh\, President/CEO of JEMC</div>
LOCATION:Winder Community Center 113 E. Athens Street\, Winder\, Ga
UID:e.363.3035
SEQUENCE:3
DTSTAMP:20260425T184407Z
URL:https://barrowcm.365dtm.com/events/details/cap-trade-act-forum-08-26-2009-3035
END:VEVENT

END:VCALENDAR
