BEGIN:VCALENDAR
VERSION:2.0
PRODID:-//ChamberMaster//Event Calendar 2.0//EN
METHOD:PUBLISH
X-PUBLISHED-TTL:P3D
REFRESH-INTERVAL:P3D
CALSCALE:GREGORIAN
BEGIN:VEVENT
DTSTART:20150924T124500Z
DTEND:20150924T183000Z
X-MICROSOFT-CDO-ALLDAYEVENT:FALSE
SUMMARY:Career Aid Day - Work Force Development
DESCRIPTION:Career Aid Day ~ Workforce Development
X-ALT-DESC;FMTTYPE=text/html:Career Aid Day ~ Workforce Development
LOCATION:Leisure Services
UID:e.363.5815
SEQUENCE:3
DTSTAMP:20260421T010657Z
URL:https://barrowcm.365dtm.com/events/details/career-aid-day-work-force-development-09-24-2015-5815
END:VEVENT

END:VCALENDAR
