BEGIN:VCALENDAR
VERSION:2.0
PRODID:-//ChamberMaster//Event Calendar 2.0//EN
METHOD:PUBLISH
X-PUBLISHED-TTL:P3D
REFRESH-INTERVAL:P3D
CALSCALE:GREGORIAN
BEGIN:VEVENT
DTSTART:20150208T180000Z
DTEND:20150208T200000Z
X-MICROSOFT-CDO-ALLDAYEVENT:FALSE
SUMMARY:Carl House Bridal Event
DESCRIPTION:Join us for our Bridal Event on February 8\, 2015\, from 1-3pm.  \n\nMeet our wedding professional partners\, taste our chef's culinary creations and win prizes!  There will be selection of wedding professionals ready to tell you all about the services they offer for a spectacular wedding - Photographers\, DJ's\, cake providers\, hotels\, videographers\, and much more. Our Executive chef will be showcasing some of the finest items right off our bridal menus. Brides attend at no cost. Carl House brides may bring one complimentary guest.  All other guests $15.00. Reservation required by 2-2-15.  Call 770.586.0095 or email info@carlhouse.com
X-ALT-DESC;FMTTYPE=text/html:<span style="font-family:verdana\,sans-serif"><span style="font-size:10.5pt">Join us for our&nbsp\;<strong>Bridal Event</strong>&nbsp\;on <strong>February 8\, 2015\, from 1-3pm</strong>.&nbsp\;&nbsp\;</span></span><br />\n<span style="font-family:verdana\,sans-serif"><span style="font-size:10.5pt">Meet our wedding professional partners\, taste our chef&rsquo\;s culinary creations and&nbsp\;win prizes!&nbsp\; There will be selection of wedding professionals ready to&nbsp\;tell you all about the services they offer for a spectacular wedding -&nbsp\;Photographers\, DJ&rsquo\;s\, cake providers\, hotels\, videographers\, and much&nbsp\;more. Our Executive chef will be showcasing some of&nbsp\;the finest items right off our bridal menus. Brides attend at no cost. Carl House brides may bring&nbsp\;one complimentary guest.&nbsp\; All other guests $15.00.&nbsp\;<em>Reservation required by 2-2-15.&nbsp\; Call 770.586.0095 or email info@carlhouse.com</em></span></span>
LOCATION:1176 Atlanta Highway\, Auburn GA 30011
UID:e.363.5486
SEQUENCE:3
DTSTAMP:20260421T123637Z
URL:https://barrowcm.365dtm.com/events/details/carl-house-bridal-event-02-08-2015-5486
END:VEVENT

END:VCALENDAR
