BEGIN:VCALENDAR
VERSION:2.0
PRODID:-//ChamberMaster//Event Calendar 2.0//EN
METHOD:PUBLISH
X-PUBLISHED-TTL:P3D
REFRESH-INTERVAL:P3D
CALSCALE:GREGORIAN
BEGIN:VEVENT
DTSTART:20150809T170000Z
DTEND:20150809T190000Z
X-MICROSOFT-CDO-ALLDAYEVENT:FALSE
SUMMARY:Carl House Bridal Event
DESCRIPTION:Join us for our Bridal Event. Meet our wedding professional partners\, taste our chef's culinary creations and win prizes! There will be selection of wedding professionals ready to tell you all about the services they offer for a spectacular wedding - Photographers\, DJ's\, cake providers\, hotels\, videographers\, and much more. Our Executive chef will be showcasing some of the finest items right off our bridal menus. Reservation required by 8-4-5. To register\, visit http://conta.cc/1FAc3K9 or Call 770.586.0095
X-ALT-DESC;FMTTYPE=text/html:<span style="font-family:open sans\,arial\,sans-serif\; font-size:14px">Join us for our Bridal Event. Meet our wedding professional partners\, taste our chef&rsquo\;s culinary creations and win prizes! There will be selection of wedding professionals ready to tell you all about the services they offer for a spectacular wedding - Photographers\, DJ&rsquo\;s\, cake providers\, hotels\, videographers\, and much more. Our Executive chef will be showcasing some of the finest items right off our bridal menus. Reservation required by 8-4-5. To register\, visit&nbsp\;</span><a href="http://conta.cc/1FAc3K9" rel="nofollow" style="text-decoration: none\; color: rgb(25\, 181\, 188)\; font-family: 'Open Sans'\, Arial\, sans-serif\; font-size: 14px\; line-height: 22.3999996185303px\;">http://conta.cc/1FAc3K9</a><span style="font-family:open sans\,arial\,sans-serif\; font-size:14px">&nbsp\;or Call 770.586.0095</span>
LOCATION:Carl House - 1176 Atlanta Highway\, Auburn GA 30011
UID:e.363.5782
SEQUENCE:3
DTSTAMP:20260421T023935Z
URL:https://barrowcm.365dtm.com/events/details/carl-house-bridal-event-08-09-2015-5782
END:VEVENT

END:VCALENDAR
