BEGIN:VCALENDAR
VERSION:2.0
PRODID:-//ChamberMaster//Event Calendar 2.0//EN
METHOD:PUBLISH
X-PUBLISHED-TTL:P3D
REFRESH-INTERVAL:P3D
CALSCALE:GREGORIAN
BEGIN:VEVENT
DTSTART:20120824T233000Z
DTEND:20120825T030000Z
X-MICROSOFT-CDO-ALLDAYEVENT:FALSE
SUMMARY:Carl House Wine and Dinner
DESCRIPTION:Wine Pairing Dinner with Guest Chef John Huff\n\nAugust 24th\, 2012 - 7:30p.m.\n\n$46.50 per person plus service and tax\n\nPlease RSVP by Monday\, August 20th by calling 770.586.0095\n\nor emailing us at info@carlhouse.com\n\n\n\nMENU\n\n\n\nHand Pass\n\nPoema Cava\n\nYellow Tomato Gazpacho Shooter with Saut ed Shrimp\n\nBlack Pepper Biscuit with Apple Butter and Brie\n\n\n\nFirst Course\n\nConcannon Pinot Noir\n\nCrispy Pork Belly with Corn Milk Red Mule Polenta and Braised Greens\n\n\n\nMain Course\n\nUppercut Cabernet Sauvignon\n\nCranberry Marinated Flat Iron Steak\, Short Rib Potato Gratin\, Roasted Cipollini Onions and Chimichurri Sauce\n\n\n\nDessert\n\nMichele Chiarlo Nivole Moscato D'Asti\n\nWild Flower Honey Panna Cotta with Trio of Peaches
X-ALT-DESC;FMTTYPE=text/html:Wine Pairing Dinner with Guest Chef John Huff<br />\nAugust 24th\, 2012 - 7:30p.m.<br />\n$46.50 per person plus service and tax<br />\nPlease RSVP by Monday\, August 20th by calling 770.586.0095<br />\nor emailing us at info@carlhouse.com<br />\n<br />\nMENU<br />\n<br />\nHand Pass<br />\nPoema Cava<br />\nYellow Tomato Gazpacho Shooter with Saut&eacute\;ed Shrimp<br />\nBlack Pepper Biscuit with Apple Butter and Brie<br />\n<br />\nFirst Course<br />\nConcannon Pinot Noir<br />\nCrispy Pork Belly with Corn Milk Red Mule Polenta and Braised Greens<br />\n<br />\nMain Course<br />\nUppercut Cabernet Sauvignon<br />\nCranberry Marinated Flat Iron Steak\, Short Rib Potato Gratin\, Roasted Cipollini Onions and Chimichurri Sauce<br />\n<br />\nDessert<br />\nMichele Chiarlo Nivole Moscato D&rsquo\;Asti<br />\nWild Flower Honey Panna Cotta with Trio of Peaches<br />\n
LOCATION:Carl House - 1176 Atlanta Highway - Auburn\, GA 30011 - (770) 586-0095 - info@carlhouse.com
UID:e.363.4536
SEQUENCE:3
DTSTAMP:20260423T132535Z
URL:https://barrowcm.365dtm.com/events/details/carl-house-wine-and-dinner-08-24-2012-4536
END:VEVENT

END:VCALENDAR
