BEGIN:VCALENDAR
VERSION:2.0
PRODID:-//ChamberMaster//Event Calendar 2.0//EN
METHOD:PUBLISH
X-PUBLISHED-TTL:P3D
REFRESH-INTERVAL:P3D
CALSCALE:GREGORIAN
BEGIN:VEVENT
DTSTART;VALUE=DATE:20150121
DTEND;VALUE=DATE:20150122
TRANSP:TRANSPARENT
X-MICROSOFT-CDO-ALLDAYEVENT:TRUE
SUMMARY:Chamber 101
DESCRIPTION:Chamber 101
X-ALT-DESC;FMTTYPE=text/html:Chamber 101
LOCATION:Chamber Office
UID:e.363.5466
SEQUENCE:3
DTSTAMP:20260421T135316Z
URL:https://barrowcm.365dtm.com/events/details/chamber-101-01-21-2015-5466
END:VEVENT

END:VCALENDAR
