BEGIN:VCALENDAR
VERSION:2.0
PRODID:-//ChamberMaster//Event Calendar 2.0//EN
METHOD:PUBLISH
X-PUBLISHED-TTL:P3D
REFRESH-INTERVAL:P3D
CALSCALE:GREGORIAN
BEGIN:VEVENT
DTSTART:20120131T164500Z
DTEND:20120131T180000Z
X-MICROSOFT-CDO-ALLDAYEVENT:FALSE
SUMMARY:Chamber 101
DESCRIPTION:Chamber 101\n\nAll new members learn all about the Chamber
X-ALT-DESC;FMTTYPE=text/html:Chamber 101<br />\nAll new members learn all about the Chamber
LOCATION:Chamber Office #6 Porter St.
UID:e.363.4125
SEQUENCE:3
DTSTAMP:20260423T235025Z
URL:https://barrowcm.365dtm.com/events/details/chamber-101-01-31-2012-4125
END:VEVENT

END:VCALENDAR
