BEGIN:VCALENDAR
VERSION:2.0
PRODID:-//ChamberMaster//Event Calendar 2.0//EN
METHOD:PUBLISH
X-PUBLISHED-TTL:P3D
REFRESH-INTERVAL:P3D
CALSCALE:GREGORIAN
BEGIN:VEVENT
DTSTART:20160330T154500Z
DTEND:20160330T170000Z
X-MICROSOFT-CDO-ALLDAYEVENT:FALSE
SUMMARY:Chamber 101
DESCRIPTION:Chamber 101 - New members come to learn all about the Chamber
X-ALT-DESC;FMTTYPE=text/html:Chamber 101 - New members come to learn all about the Chamber
LOCATION:Chamber Office
UID:e.363.5862
SEQUENCE:3
DTSTAMP:20260420T155617Z
URL:https://barrowcm.365dtm.com/events/details/chamber-101-03-30-2016-5862
END:VEVENT

END:VCALENDAR
