BEGIN:VCALENDAR
VERSION:2.0
PRODID:-//ChamberMaster//Event Calendar 2.0//EN
METHOD:PUBLISH
X-PUBLISHED-TTL:P3D
REFRESH-INTERVAL:P3D
CALSCALE:GREGORIAN
BEGIN:VEVENT
DTSTART:20150429T153000Z
DTEND:20150429T170000Z
X-MICROSOFT-CDO-ALLDAYEVENT:FALSE
SUMMARY:Chamber 101
DESCRIPTION:Chamber 101\n\nThis is for our new members to learn about the chamber and how we can\n\nhelp each other.
X-ALT-DESC;FMTTYPE=text/html:Chamber 101<br />\nThis is for our new members to learn about the chamber and how we can<br />\nhelp each other.&nbsp\;
LOCATION:Chamber Office - Zaxby's will sponsor the lunch
UID:e.363.5772
SEQUENCE:3
DTSTAMP:20260421T091655Z
URL:https://barrowcm.365dtm.com/events/details/chamber-101-04-29-2015-5772
END:VEVENT

END:VCALENDAR
