BEGIN:VCALENDAR
VERSION:2.0
PRODID:-//ChamberMaster//Event Calendar 2.0//EN
METHOD:PUBLISH
X-PUBLISHED-TTL:P3D
REFRESH-INTERVAL:P3D
CALSCALE:GREGORIAN
BEGIN:VEVENT
DTSTART:20130529T154500Z
DTEND:20130529T170000Z
X-MICROSOFT-CDO-ALLDAYEVENT:FALSE
SUMMARY:Chamber 101
DESCRIPTION:Chamber 101\n\nA time for new members to come and learn all about\n\ntheir Chamber.
X-ALT-DESC;FMTTYPE=text/html:Chamber 101<br />\nA time for new members to come and learn all about<br />\ntheir Chamber.
LOCATION:Chamber Office - #6 Porter Street
UID:e.363.4891
SEQUENCE:3
DTSTAMP:20260422T233039Z
URL:https://barrowcm.365dtm.com/events/details/chamber-101-05-29-2013-4891
END:VEVENT

END:VCALENDAR
