BEGIN:VCALENDAR
VERSION:2.0
PRODID:-//ChamberMaster//Event Calendar 2.0//EN
METHOD:PUBLISH
X-PUBLISHED-TTL:P3D
REFRESH-INTERVAL:P3D
CALSCALE:GREGORIAN
BEGIN:VEVENT
DTSTART:20150826T154500Z
DTEND:20150826T170000Z
X-MICROSOFT-CDO-ALLDAYEVENT:FALSE
SUMMARY:Chamber 101
DESCRIPTION:Chamber 101\n\nNew members learn what we have to offer
X-ALT-DESC;FMTTYPE=text/html:Chamber 101<br />\nNew members learn what we have to offer
LOCATION:Chamber Office
UID:e.363.5796
SEQUENCE:3
DTSTAMP:20260421T023602Z
URL:https://barrowcm.365dtm.com/events/details/chamber-101-08-26-2015-5796
END:VEVENT

END:VCALENDAR
