BEGIN:VCALENDAR
VERSION:2.0
PRODID:-//ChamberMaster//Event Calendar 2.0//EN
METHOD:PUBLISH
X-PUBLISHED-TTL:P3D
REFRESH-INTERVAL:P3D
CALSCALE:GREGORIAN
BEGIN:VEVENT
DTSTART:20130828T154500Z
DTEND:20130828T170000Z
X-MICROSOFT-CDO-ALLDAYEVENT:FALSE
SUMMARY:Chamber 101
DESCRIPTION:Chamber 101\n\nZaxbys Sponsors Lunch\n\nMostly for new members to learn what the chamber has to offer.\n\nBring plenty of cards to pass and share.
X-ALT-DESC;FMTTYPE=text/html:Chamber 101<br />\nZaxbys Sponsors Lunch<br />\nMostly for new members to learn what the chamber has to offer.<br />\nBring plenty of cards to pass and share.
LOCATION:Chamber Office
UID:e.363.5032
SEQUENCE:3
DTSTAMP:20260422T191415Z
URL:https://barrowcm.365dtm.com/events/details/chamber-101-08-28-2013-5032
END:VEVENT

END:VCALENDAR
