BEGIN:VCALENDAR
VERSION:2.0
PRODID:-//ChamberMaster//Event Calendar 2.0//EN
METHOD:PUBLISH
X-PUBLISHED-TTL:P3D
REFRESH-INTERVAL:P3D
CALSCALE:GREGORIAN
BEGIN:VEVENT
DTSTART;VALUE=DATE:20140924
DTEND;VALUE=DATE:20140925
TRANSP:TRANSPARENT
X-MICROSOFT-CDO-ALLDAYEVENT:TRUE
SUMMARY:Chamber 101
DESCRIPTION:Chamber 101
X-ALT-DESC;FMTTYPE=text/html:Chamber 101
LOCATION:Chamber Office
UID:e.363.5453
SEQUENCE:3
DTSTAMP:20260421T200647Z
URL:https://barrowcm.365dtm.com/events/details/chamber-101-09-24-2014-5453
END:VEVENT

END:VCALENDAR
