BEGIN:VCALENDAR
VERSION:2.0
PRODID:-//ChamberMaster//Event Calendar 2.0//EN
METHOD:PUBLISH
X-PUBLISHED-TTL:P3D
REFRESH-INTERVAL:P3D
CALSCALE:GREGORIAN
BEGIN:VEVENT
DTSTART:20161026T154500Z
DTEND:20161026T170000Z
X-MICROSOFT-CDO-ALLDAYEVENT:FALSE
SUMMARY:Chamber 101
DESCRIPTION:Chamber 101
X-ALT-DESC;FMTTYPE=text/html:Chamber 101
LOCATION:Chamber Office
UID:e.363.5893
SEQUENCE:3
DTSTAMP:20260420T045135Z
URL:https://barrowcm.365dtm.com/events/details/chamber-101-10-26-2016-5893
END:VEVENT

END:VCALENDAR
