BEGIN:VCALENDAR
VERSION:2.0
PRODID:-//ChamberMaster//Event Calendar 2.0//EN
METHOD:PUBLISH
X-PUBLISHED-TTL:P3D
REFRESH-INTERVAL:P3D
CALSCALE:GREGORIAN
BEGIN:VEVENT
DTSTART:20151028T154500Z
DTEND:20151028T170000Z
X-MICROSOFT-CDO-ALLDAYEVENT:FALSE
SUMMARY:Chamber 101
DESCRIPTION:Zaxby's sponsor lunch for new member to learn about the Chamber Benefits.
X-ALT-DESC;FMTTYPE=text/html:Zaxby&#39\;s sponsor lunch for new member to learn about the Chamber Benefits.
LOCATION:Chamber Office
UID:e.363.5827
SEQUENCE:3
DTSTAMP:20260420T232600Z
URL:https://barrowcm.365dtm.com/events/details/chamber-101-10-28-2015-5827
END:VEVENT

END:VCALENDAR
