BEGIN:VCALENDAR
VERSION:2.0
PRODID:-//ChamberMaster//Event Calendar 2.0//EN
METHOD:PUBLISH
X-PUBLISHED-TTL:P3D
REFRESH-INTERVAL:P3D
CALSCALE:GREGORIAN
BEGIN:VEVENT
DTSTART:20170322T154500Z
DTEND:20170322T170000Z
X-MICROSOFT-CDO-ALLDAYEVENT:FALSE
SUMMARY:Chamber 101
DESCRIPTION:Chamber 101 - For all our new members to learn all\n\nabout the Chamber\n\nZaxby's will sponsor lunch
X-ALT-DESC;FMTTYPE=text/html:Chamber 101 - For all our new members to learn all<br />\nabout the Chamber<br />\nZaxby&#39\;s will sponsor lunch
LOCATION:Chamber Office #6 Porter Street
UID:e.363.6927
SEQUENCE:3
DTSTAMP:20260419T213415Z
URL:https://barrowcm.365dtm.com/events/details/chamber-101-6927
END:VEVENT

END:VCALENDAR
