BEGIN:VCALENDAR
VERSION:2.0
PRODID:-//ChamberMaster//Event Calendar 2.0//EN
METHOD:PUBLISH
X-PUBLISHED-TTL:P3D
REFRESH-INTERVAL:P3D
CALSCALE:GREGORIAN
BEGIN:VEVENT
DTSTART;VALUE=DATE:20111005
DTEND;VALUE=DATE:20111006
TRANSP:TRANSPARENT
X-MICROSOFT-CDO-ALLDAYEVENT:TRUE
SUMMARY:Chamber 1st Sporting Clay Tourney
DESCRIPTION:First American Bank and Trust is sponsoring our first Sporting Clay Tourney.
X-ALT-DESC;FMTTYPE=text/html:First American Bank and Trust is&nbsp\;sponsoring our first Sporting Clay Tourney.
LOCATION:Etowah Valley Sporting Club Dawsonville\, GA 30534 706-265-1611
UID:e.363.4033
SEQUENCE:3
DTSTAMP:20260424T040223Z
URL:https://barrowcm.365dtm.com/events/details/chamber-1st-sporting-clay-tourney-10-05-2011-4033
END:VEVENT

END:VCALENDAR
