BEGIN:VCALENDAR
VERSION:2.0
PRODID:-//ChamberMaster//Event Calendar 2.0//EN
METHOD:PUBLISH
X-PUBLISHED-TTL:P3D
REFRESH-INTERVAL:P3D
CALSCALE:GREGORIAN
BEGIN:VEVENT
DTSTART:20170211T230000Z
DTEND:20170212T020000Z
X-MICROSOFT-CDO-ALLDAYEVENT:FALSE
SUMMARY:Chamber Annual Dinner
DESCRIPTION:Annual Dinner\n\nCocktails at 6:00\, Dinner and Awards at 7:00
X-ALT-DESC;FMTTYPE=text/html:Annual Dinner<br />\nCocktails at 6:00\, Dinner and Awards at 7:00
LOCATION:Chateau Elan
UID:e.363.6902
SEQUENCE:3
DTSTAMP:20260419T231018Z
URL:https://barrowcm.365dtm.com/events/details/chamber-annual-dinner-6902
END:VEVENT

END:VCALENDAR
