BEGIN:VCALENDAR
VERSION:2.0
PRODID:-//ChamberMaster//Event Calendar 2.0//EN
METHOD:PUBLISH
X-PUBLISHED-TTL:P3D
REFRESH-INTERVAL:P3D
CALSCALE:GREGORIAN
BEGIN:VEVENT
DTSTART:20090910T213000Z
DTEND:20090910T230000Z
X-MICROSOFT-CDO-ALLDAYEVENT:FALSE
SUMMARY:Chamber Business after Hours
DESCRIPTION:Busines after HoursSponsored by Community Bank and Trust and Northeast Sales & Distributing\, IncWine/Cheese Tasting
X-ALT-DESC;FMTTYPE=text/html:<p>Busines after Hours</p><p>Sponsored by Community Bank and Trust and Northeast Sales &amp\; Distributing\, Inc</p><p>Wine/Cheese Tasting</p>
LOCATION:Community Bank and Trust\; 4 Mimosa Street\, Winder
UID:e.363.3026
SEQUENCE:3
DTSTAMP:20260425T173301Z
URL:https://barrowcm.365dtm.com/events/details/chamber-business-after-hours-09-10-2009-3026
END:VEVENT

END:VCALENDAR
