BEGIN:VCALENDAR
VERSION:2.0
PRODID:-//ChamberMaster//Event Calendar 2.0//EN
METHOD:PUBLISH
X-PUBLISHED-TTL:P3D
REFRESH-INTERVAL:P3D
CALSCALE:GREGORIAN
BEGIN:VEVENT
DTSTART:20090416T170000Z
DTEND:20090416T180000Z
X-MICROSOFT-CDO-ALLDAYEVENT:FALSE
SUMMARY:Chamber Events Committee
DESCRIPTION:
X-ALT-DESC;FMTTYPE=text/html:
LOCATION:Magnolia Place
UID:e.363.2695
SEQUENCE:3
DTSTAMP:20260426T012016Z
URL:https://barrowcm.365dtm.com/events/details/chamber-events-committee-04-16-2009-2695
END:VEVENT

END:VCALENDAR
