BEGIN:VCALENDAR
VERSION:2.0
PRODID:-//ChamberMaster//Event Calendar 2.0//EN
METHOD:PUBLISH
X-PUBLISHED-TTL:P3D
REFRESH-INTERVAL:P3D
CALSCALE:GREGORIAN
BEGIN:VEVENT
DTSTART:20100812T160000Z
DTEND:20100812T170000Z
X-MICROSOFT-CDO-ALLDAYEVENT:FALSE
SUMMARY:Chamber Events Committee Meeting
DESCRIPTION:Community Events Committee
X-ALT-DESC;FMTTYPE=text/html:Community Events Committee
LOCATION:Magnolia Place
UID:e.363.3576
SEQUENCE:3
DTSTAMP:20260425T001541Z
URL:https://barrowcm.365dtm.com/events/details/chamber-events-committee-meeting-08-12-2010-3576
END:VEVENT

END:VCALENDAR
