BEGIN:VCALENDAR
VERSION:2.0
PRODID:-//ChamberMaster//Event Calendar 2.0//EN
METHOD:PUBLISH
X-PUBLISHED-TTL:P3D
REFRESH-INTERVAL:P3D
CALSCALE:GREGORIAN
BEGIN:VEVENT
DTSTART;VALUE=DATE:20130515
DTEND;VALUE=DATE:20130516
TRANSP:TRANSPARENT
X-MICROSOFT-CDO-ALLDAYEVENT:TRUE
SUMMARY:Chamber Golf Tournament at Ga. Club
DESCRIPTION:
X-ALT-DESC;FMTTYPE=text/html:
LOCATION:Golf Tournament at the Georgia Club
UID:e.363.4805
SEQUENCE:3
DTSTAMP:20260422T233722Z
URL:https://barrowcm.365dtm.com/events/details/chamber-golf-tournament-at-ga-club-05-15-2013-4805
END:VEVENT

END:VCALENDAR
