BEGIN:VCALENDAR
VERSION:2.0
PRODID:-//ChamberMaster//Event Calendar 2.0//EN
METHOD:PUBLISH
X-PUBLISHED-TTL:P3D
REFRESH-INTERVAL:P3D
CALSCALE:GREGORIAN
BEGIN:VEVENT
DTSTART:20150609T123000Z
DTEND:20150609T200000Z
X-MICROSOFT-CDO-ALLDAYEVENT:FALSE
SUMMARY:Chamber Golf Tournament - Ga Club
DESCRIPTION:Chamber Golf Tournament @ The Georgia Club
X-ALT-DESC;FMTTYPE=text/html:Chamber Golf Tournament @ The Georgia Club
LOCATION:Georgia Club
UID:e.363.5760
SEQUENCE:3
DTSTAMP:20260421T062412Z
URL:https://barrowcm.365dtm.com/events/details/chamber-golf-tournament-ga-club-06-09-2015-5760
END:VEVENT

END:VCALENDAR
