BEGIN:VCALENDAR
VERSION:2.0
PRODID:-//ChamberMaster//Event Calendar 2.0//EN
METHOD:PUBLISH
X-PUBLISHED-TTL:P3D
REFRESH-INTERVAL:P3D
CALSCALE:GREGORIAN
BEGIN:VEVENT
DTSTART:20090323T160000Z
DTEND:20090323T170000Z
X-MICROSOFT-CDO-ALLDAYEVENT:FALSE
SUMMARY:Chamber Master Member Training Class
DESCRIPTION:Bring your "Brown Bag Lunch" and learn all of the on-line benefits as well as go over limited upgrade opportunites
X-ALT-DESC;FMTTYPE=text/html:<div>Bring your &quot\;Brown Bag Lunch&quot\; and learn all of the on-line benefits as well as go over limited upgrade opportunites</div>
LOCATION:The Chamber
UID:e.363.2681
SEQUENCE:3
DTSTAMP:20260426T024049Z
URL:https://barrowcm.365dtm.com/events/details/chamber-master-member-training-class-03-23-2009-2681
END:VEVENT

END:VCALENDAR
