BEGIN:VCALENDAR
VERSION:2.0
PRODID:-//ChamberMaster//Event Calendar 2.0//EN
METHOD:PUBLISH
X-PUBLISHED-TTL:P3D
REFRESH-INTERVAL:P3D
CALSCALE:GREGORIAN
BEGIN:VEVENT
DTSTART:20090325T160000Z
DTEND:20090325T170000Z
X-MICROSOFT-CDO-ALLDAYEVENT:FALSE
SUMMARY:Chamber Master Training Classes
DESCRIPTION:Chamber Master representative is here to teach and walk you through all of the on-line\nbenefits as well as go over limited upgrade opportunities\nBring your lunch "Brown Bag" while you learn
X-ALT-DESC;FMTTYPE=text/html:Chamber Master representative is here to teach and walk you through all of the on-line\nbenefits as well as go over limited upgrade opportunities\nBring your lunch "Brown Bag" while you learn
LOCATION:The Chamber
UID:e.363.2683
SEQUENCE:3
DTSTAMP:20260426T023155Z
URL:https://barrowcm.365dtm.com/events/details/chamber-master-training-classes-03-25-2009-2683
END:VEVENT

END:VCALENDAR
