BEGIN:VCALENDAR
VERSION:2.0
PRODID:-//ChamberMaster//Event Calendar 2.0//EN
METHOD:PUBLISH
X-PUBLISHED-TTL:P3D
REFRESH-INTERVAL:P3D
CALSCALE:GREGORIAN
BEGIN:VEVENT
DTSTART:20090327T160000Z
DTEND:20090327T170000Z
X-MICROSOFT-CDO-ALLDAYEVENT:FALSE
SUMMARY:Chamber Master Training Classes
DESCRIPTION:Chamber Master representative is here to teach and walk you through all of the on-line benefits as well as go over limited upgrade opportunites Bring you lunch "Brown Bag" and eat while your learning
X-ALT-DESC;FMTTYPE=text/html:<div>Chamber Master representative is here to teach and walk you through all of the on-line benefits as well as go over limited upgrade opportunites Bring you lunch &quot\;Brown Bag&quot\; and eat while your learning</div>
LOCATION:The Chamber
UID:e.363.2685
SEQUENCE:3
DTSTAMP:20260426T023915Z
URL:https://barrowcm.365dtm.com/events/details/chamber-master-training-classes-03-27-2009-2685
END:VEVENT

END:VCALENDAR
