BEGIN:VCALENDAR
VERSION:2.0
PRODID:-//ChamberMaster//Event Calendar 2.0//EN
METHOD:PUBLISH
X-PUBLISHED-TTL:P3D
REFRESH-INTERVAL:P3D
CALSCALE:GREGORIAN
BEGIN:VEVENT
DTSTART:20090326T160000Z
DTEND:20090326T170000Z
X-MICROSOFT-CDO-ALLDAYEVENT:FALSE
SUMMARY:Chamber Master Training Session
DESCRIPTION:Chamber Master representative is here to teach and walk you through all of the \non-line benefits as well as go over limited upgrade opportunites.\nBring your lunch "Brown Bag"  eat while your learning
X-ALT-DESC;FMTTYPE=text/html:Chamber Master representative is here to teach and walk you through all of the \non-line benefits as well as go over limited upgrade opportunites.\nBring your lunch "Brown Bag"  eat while your learning
LOCATION:The Chamber
UID:e.363.2684
SEQUENCE:3
DTSTAMP:20260426T023926Z
URL:https://barrowcm.365dtm.com/events/details/chamber-master-training-session-03-26-2009-2684
END:VEVENT

END:VCALENDAR
