BEGIN:VCALENDAR
VERSION:2.0
PRODID:-//ChamberMaster//Event Calendar 2.0//EN
METHOD:PUBLISH
X-PUBLISHED-TTL:P3D
REFRESH-INTERVAL:P3D
CALSCALE:GREGORIAN
BEGIN:VEVENT
DTSTART:20090303T124500Z
DTEND:20090303T140000Z
X-MICROSOFT-CDO-ALLDAYEVENT:FALSE
SUMMARY:Chamber Membership Breakfast
DESCRIPTION:The Barrow County Chamber of Commerce will present\, at the March 3rd Breakfast\, the "Annual Report to the Stakeholder/Members".This Annual Report will give a report from the President on all aspects of the Chamber for 2008\,including brief Committee reports.  Financial reports\, Economic Development  presentation\, andgoal for 2009.Be sure to attend this important meeting tht covers the operations of the Barrrow County Chamber of Commerce.Sponsored by Channel 24-WCTV
X-ALT-DESC;FMTTYPE=text/html:<div>The Barrow County Chamber of Commerce will present\, at the March 3rd Breakfast\, the &quot\;Annual Report to the Stakeholder/Members&quot\;.</div><div>This Annual Report will give a report from the President on all aspects of the Chamber for 2008\,</div><div>including brief Committee reports.&nbsp\; Financial reports\, Economic Development&nbsp\; presentation\, and</div><div>goal for 2009.</div><div>Be sure to attend this important meeting tht covers the operations of the Barrrow County Chamber of Commerce.</div><div>Sponsored by Channel 24-WCTV</div>
LOCATION:Barrow County Leisure Services\, 175 2nd Street\, Winder
UID:e.363.2662
SEQUENCE:3
DTSTAMP:20260426T024411Z
URL:https://barrowcm.365dtm.com/events/details/chamber-membership-breakfast-03-03-2009-2662
END:VEVENT

END:VCALENDAR
