BEGIN:VCALENDAR
VERSION:2.0
PRODID:-//ChamberMaster//Event Calendar 2.0//EN
METHOD:PUBLISH
X-PUBLISHED-TTL:P3D
REFRESH-INTERVAL:P3D
CALSCALE:GREGORIAN
BEGIN:VEVENT
DTSTART:20130108T164500Z
DTEND:20130108T180000Z
X-MICROSOFT-CDO-ALLDAYEVENT:FALSE
SUMMARY:Chamber Membership Meeting
DESCRIPTION:Jackson EMC sponsoring First Tuesday Membership Meeting\n\nJudge Mingledoff will be the speaker
X-ALT-DESC;FMTTYPE=text/html:Jackson EMC sponsoring First Tuesday Membership Meeting<br />\nJudge Mingledoff will be the speaker
LOCATION:Barrow County Park & Rec. Dept.
UID:e.363.4802
SEQUENCE:3
DTSTAMP:20260423T053856Z
URL:https://barrowcm.365dtm.com/events/details/chamber-membership-meeting-01-08-2013-4802
END:VEVENT

END:VCALENDAR
