BEGIN:VCALENDAR
VERSION:2.0
PRODID:-//ChamberMaster//Event Calendar 2.0//EN
METHOD:PUBLISH
X-PUBLISHED-TTL:P3D
REFRESH-INTERVAL:P3D
CALSCALE:GREGORIAN
BEGIN:VEVENT
DTSTART:20091201T124500Z
DTEND:20091201T140000Z
X-MICROSOFT-CDO-ALLDAYEVENT:FALSE
SUMMARY:Chamber Membership Meeting
DESCRIPTION:Membership Breakfast Sponsored by:Chateau Elan Apalachee High School and Winder Barrow High SchoolChorus will perform
X-ALT-DESC;FMTTYPE=text/html:<div>Membership Breakfast Sponsored by:</div><div>Chateau Elan</div><div>&nbsp\;</div><div>Apalachee High School and Winder Barrow High School</div><div>Chorus will perform</div>
LOCATION:Chateau Elan100 Rue CharlemagneBraselton\, Ga
UID:e.363.2991
SEQUENCE:3
DTSTAMP:20260425T122100Z
URL:https://barrowcm.365dtm.com/events/details/chamber-membership-meeting-12-01-2009-2991
END:VEVENT

END:VCALENDAR
