BEGIN:VCALENDAR
VERSION:2.0
PRODID:-//ChamberMaster//Event Calendar 2.0//EN
METHOD:PUBLISH
X-PUBLISHED-TTL:P3D
REFRESH-INTERVAL:P3D
CALSCALE:GREGORIAN
BEGIN:VEVENT
DTSTART;VALUE=DATE:20120528
DTEND;VALUE=DATE:20120529
TRANSP:TRANSPARENT
X-MICROSOFT-CDO-ALLDAYEVENT:TRUE
SUMMARY:Chamber Office will be closed
DESCRIPTION:Click here to edit...
X-ALT-DESC;FMTTYPE=text/html:<DIV style="COLOR: gray">Click here to edit...</DIV>
LOCATION:Click here to edit...
UID:e.363.4267
SEQUENCE:3
DTSTAMP:20260423T180840Z
URL:https://barrowcm.365dtm.com/events/details/chamber-office-will-be-closed-05-28-2012-4267
END:VEVENT

END:VCALENDAR
