BEGIN:VCALENDAR
VERSION:2.0
PRODID:-//ChamberMaster//Event Calendar 2.0//EN
METHOD:PUBLISH
X-PUBLISHED-TTL:P3D
REFRESH-INTERVAL:P3D
CALSCALE:GREGORIAN
BEGIN:VEVENT
DTSTART;VALUE=DATE:20090907
DTEND;VALUE=DATE:20090908
TRANSP:TRANSPARENT
X-MICROSOFT-CDO-ALLDAYEVENT:TRUE
SUMMARY:Chamber Office will be closed
DESCRIPTION:Office will be closed for Labor Day
X-ALT-DESC;FMTTYPE=text/html:Office will be closed for Labor Day
LOCATION:
UID:e.363.3044
SEQUENCE:3
DTSTAMP:20260425T172857Z
URL:https://barrowcm.365dtm.com/events/details/chamber-office-will-be-closed-09-07-2009-3044
END:VEVENT

END:VCALENDAR
