BEGIN:VCALENDAR
VERSION:2.0
PRODID:-//ChamberMaster//Event Calendar 2.0//EN
METHOD:PUBLISH
X-PUBLISHED-TTL:P3D
REFRESH-INTERVAL:P3D
CALSCALE:GREGORIAN
BEGIN:VEVENT
DTSTART;VALUE=DATE:20140325
DTEND;VALUE=DATE:20140326
TRANSP:TRANSPARENT
X-MICROSOFT-CDO-ALLDAYEVENT:TRUE
SUMMARY:Chamber office will be closed after noon
DESCRIPTION:Gone to a Chamber meeting out of town.
X-ALT-DESC;FMTTYPE=text/html:Gone to a Chamber meeting out of town.
LOCATION:
UID:e.363.5408
SEQUENCE:3
DTSTAMP:20260422T050536Z
URL:https://barrowcm.365dtm.com/events/details/chamber-office-will-be-closed-after-noon-03-25-2014-5408
END:VEVENT

END:VCALENDAR
