BEGIN:VCALENDAR
VERSION:2.0
PRODID:-//ChamberMaster//Event Calendar 2.0//EN
METHOD:PUBLISH
X-PUBLISHED-TTL:P3D
REFRESH-INTERVAL:P3D
CALSCALE:GREGORIAN
BEGIN:VEVENT
DTSTART:20110307T210000Z
DTEND:20110307T220000Z
X-MICROSOFT-CDO-ALLDAYEVENT:FALSE
SUMMARY:Chambering Lorraine Communications - kick -off
DESCRIPTION:Join us for a special ribbon cutting at the chamber on Monday at 4 pm to celebrate a new level of interaction for Chambering.  Chamber Members Lorraine Communications and Murcon have collaborated to make the PRINT edition linkable to web sites via smart phone apps.  Lorraine will be bringing some pre-mailed\, off-the-press copies of the March issue so that attendees can experience this technological wonder and get assistance in adding this innovation to your smart phones.
X-ALT-DESC;FMTTYPE=text/html:<em><span style="color: #1f497d"><span style="font-family: century\, serif"><span style="font-size: medium">Join us for a special ribbon cutting at the chamber on Monday at 4 pm to celebrate a new level of interaction for Chambering. &nbsp\;Chamber Members Lorraine Communications and Murcon have collaborated to make the PRINT edition linkable to web sites via smart phone apps. &nbsp\;Lorraine will be bringing some pre-mailed\, off-the-press copies of the March issue so that attendees can experience this technological wonder and get assistance in adding this innovation to your smart phones.&nbsp\;</span></span></span></em><br />\n
LOCATION:Chamber Office #6 Porter Street
UID:e.363.3705
SEQUENCE:3
DTSTAMP:20260424T134412Z
URL:https://barrowcm.365dtm.com/events/details/chambering-lorraine-communications-kick-off-03-07-2011-3705
END:VEVENT

END:VCALENDAR
