BEGIN:VCALENDAR
VERSION:2.0
PRODID:-//ChamberMaster//Event Calendar 2.0//EN
METHOD:PUBLISH
X-PUBLISHED-TTL:P3D
REFRESH-INTERVAL:P3D
CALSCALE:GREGORIAN
BEGIN:VEVENT
DTSTART:20090324T190000Z
DTEND:20090324T200000Z
X-MICROSOFT-CDO-ALLDAYEVENT:FALSE
SUMMARY:Chameber Master Training Class
DESCRIPTION:Chamber Master representative is here to teach and walk you through all of the on-line \nbenefits as well as go over limited upgrade opportunites.
X-ALT-DESC;FMTTYPE=text/html:Chamber Master representative is here to teach and walk you through all of the on-line \nbenefits as well as go over limited upgrade opportunites.  
LOCATION:The Chamber
UID:e.363.2682
SEQUENCE:3
DTSTAMP:20260426T024013Z
URL:https://barrowcm.365dtm.com/events/details/chameber-master-training-class-03-24-2009-2682
END:VEVENT

END:VCALENDAR
