BEGIN:VCALENDAR
VERSION:2.0
PRODID:-//ChamberMaster//Event Calendar 2.0//EN
METHOD:PUBLISH
X-PUBLISHED-TTL:P3D
REFRESH-INTERVAL:P3D
CALSCALE:GREGORIAN
BEGIN:VEVENT
DTSTART:20140428T140000Z
DTEND:20140428T230000Z
X-MICROSOFT-CDO-ALLDAYEVENT:FALSE
SUMMARY:Charity Golf Tournament
DESCRIPTION:"Children Without A Voice" is holding it's annual fund raising Charity Golf Tournament in April.\n\n\n\nFounded in 2007 and headquartered in Alpharetta\, GA\, Children Without A Voice USA is a grass roots 501(c)(3) non-profit organization dedicated and determined in fighting crimes\, child abuse and neglect in America through education and advocacy.\n\n\n\nDate: Monday\, April 28\, 2014\n\nTime: Registration - 10am\n\nLunch - 11:30am\n\nTee Off - 12:30pm\n\nDinner - 5:30pm\n\nLocation: Alpharetta Athletic Club\n\n3430 Highway Nine North\n\nAlpharetta\, GA\n\n\n\nPlayers: $150 per player or $500 per foursome\n\nincludes golf\, lunch and dinner\n\nprizes\, raffles and auction being held\n\n\n\nFor registration\, information and sponsorship visit...www.birdeasepro.com/cwav2014
X-ALT-DESC;FMTTYPE=text/html:&quot\;Children Without A Voice&quot\; is holding it&#39\;s annual <span class="v274v84" id="v274v84_3">fund raising</span> <span class="v274v84" id="v274v84_1">Charity Golf Tournament</span> in April.<br />\n<br />\nFounded in 2007 and headquartered in Alpharetta\, GA\, Children Without A Voice USA is a grass roots 501(c)(3) non-<span class="v274v84" id="v274v84_2">profit organization dedicated</span> and determined in fighting crimes\, child abuse and neglect in America through education and advocacy.<br />\n<br />\nDate: Monday\, April 28\, 2014<br />\nTime: Registration - 10am<br />\nLunch - 11:30am<br />\nTee Off - 12:30pm<br />\nDinner - 5:30pm<br />\nLocation: Alpharetta Athletic Club<br />\n3430 Highway Nine North<br />\nAlpharetta\, GA<br />\n<br />\nPlayers: $150 per player or $500 per foursome<br />\nincludes golf\, lunch and dinner<br />\nprizes\, raffles and auction being held<br />\n<br />\nFor registration\, information and sponsorship visit...www.birdeasepro.com/cwav2014 
LOCATION:Alpharetta Athletic Club
UID:e.363.5393
SEQUENCE:3
DTSTAMP:20260422T034534Z
URL:https://barrowcm.365dtm.com/events/details/charity-golf-tournament-04-28-2014-5393
END:VEVENT

END:VCALENDAR
