BEGIN:VCALENDAR
VERSION:2.0
PRODID:-//ChamberMaster//Event Calendar 2.0//EN
METHOD:PUBLISH
X-PUBLISHED-TTL:P3D
REFRESH-INTERVAL:P3D
CALSCALE:GREGORIAN
BEGIN:VEVENT
DTSTART:20090414T203000Z
DTEND:20090414T211500Z
X-MICROSOFT-CDO-ALLDAYEVENT:FALSE
SUMMARY:Child Abuse Prevention Month Proclamation
DESCRIPTION:In honor of all child victims in Barrow County\, we will decorate the lawn of the hospital\nwith Pinwheels. We invite all concerned citizens to join us for this annual\nevent. A child's life should be safe and carefree. THe pinwheel is a symbol of the playfulness and joy of childhood. In April\, there are colorful pinwheels on display in communities throughout Georgia reminding us to value the children in our lives everyway all year long. We all have a role to play. Together\, we can assure the safety\, well-being and future of Georgia's Children.
X-ALT-DESC;FMTTYPE=text/html:In honor of all child victims in Barrow County\, we will decorate the lawn of the hospital\nwith Pinwheels. We invite all concerned citizens to join us for this annual\nevent. A child's life should be safe and carefree. THe pinwheel is a symbol of the playfulness and joy of childhood. In April\, there are colorful pinwheels on display in communities throughout Georgia reminding us to value the children in our lives everyway all year long. We all have a role to play. Together\, we can assure the safety\, well-being and future of Georgia's Children.
LOCATION:Barrow Regional Medical Center
UID:e.363.2701
SEQUENCE:3
DTSTAMP:20260426T012033Z
URL:https://barrowcm.365dtm.com/events/details/child-abuse-prevention-month-proclamation-04-14-2009-2701
END:VEVENT

END:VCALENDAR
