BEGIN:VCALENDAR
VERSION:2.0
PRODID:-//ChamberMaster//Event Calendar 2.0//EN
METHOD:PUBLISH
X-PUBLISHED-TTL:P3D
REFRESH-INTERVAL:P3D
CALSCALE:GREGORIAN
BEGIN:VEVENT
DTSTART:20101217T230000Z
DTEND:20101218T040000Z
X-MICROSOFT-CDO-ALLDAYEVENT:FALSE
SUMMARY:Christmas Party
DESCRIPTION:Christmas Party--admission is gift under $5.00 (men bring a male gift/women bring a female gift)
X-ALT-DESC;FMTTYPE=text/html:Christmas Party--admission is gift under $5.00 (men bring a male gift/women bring a female gift)
LOCATION:American Legion Post 53 at 4567 Watson Rd. in Winder
UID:e.363.3647
SEQUENCE:3
DTSTAMP:20260424T182419Z
URL:https://barrowcm.365dtm.com/events/details/christmas-party-12-17-2010-3647
END:VEVENT

END:VCALENDAR
