BEGIN:VCALENDAR
VERSION:2.0
PRODID:-//ChamberMaster//Event Calendar 2.0//EN
METHOD:PUBLISH
X-PUBLISHED-TTL:P3D
REFRESH-INTERVAL:P3D
CALSCALE:GREGORIAN
BEGIN:VEVENT
DTSTART:20100108T000000Z
DTEND:20100108T020000Z
X-MICROSOFT-CDO-ALLDAYEVENT:FALSE
SUMMARY:City of Auburn Council Meeting
DESCRIPTION:Business Meeting
X-ALT-DESC;FMTTYPE=text/html:Business Meeting
LOCATION:Council chambers
UID:e.363.3177
SEQUENCE:3
DTSTAMP:20260425T105118Z
URL:https://barrowcm.365dtm.com/events/details/city-of-auburn-council-meeting-01-07-2010-3177
END:VEVENT

END:VCALENDAR
