BEGIN:VCALENDAR
VERSION:2.0
PRODID:-//ChamberMaster//Event Calendar 2.0//EN
METHOD:PUBLISH
X-PUBLISHED-TTL:P3D
REFRESH-INTERVAL:P3D
CALSCALE:GREGORIAN
BEGIN:VEVENT
DTSTART:20101204T210000Z
DTEND:20101204T230000Z
X-MICROSOFT-CDO-ALLDAYEVENT:FALSE
SUMMARY:City of Winder Christmas Parade
DESCRIPTION:The City of Winder Christmas Parade is an annual event featuring local businesses and organizations traveling through the downtown area.  This event also features Santa Claus for everyone's excitement. This event is a family friendly time for everyone!  You will see many businesses from around Barrow County along with pageant winners and local churches.  Follow the parade to the Community Center for some crafts\, and take pictures with Santa Food vendors will also be on hand at the Community Center as well as down the parade route.
X-ALT-DESC;FMTTYPE=text/html:The City of Winder Christmas Parade is an annual event featuring local businesses and organizations traveling through the downtown area.  This event also features Santa Claus for everyone's excitement. This event is a family friendly time for everyone!  You will see many businesses from around Barrow County along with pageant winners and local churches.  Follow the parade to the Community Center for some crafts\, and take pictures with Santa Food vendors will also be on hand at the Community Center as well as down the parade route.
LOCATION:Downtown Winder Area
UID:e.363.3650
SEQUENCE:3
DTSTAMP:20260424T182824Z
URL:https://barrowcm.365dtm.com/events/details/city-of-winder-christmas-parade-12-04-2010-3650
END:VEVENT

END:VCALENDAR
