BEGIN:VCALENDAR
VERSION:2.0
PRODID:-//ChamberMaster//Event Calendar 2.0//EN
METHOD:PUBLISH
X-PUBLISHED-TTL:P3D
REFRESH-INTERVAL:P3D
CALSCALE:GREGORIAN
BEGIN:VEVENT
DTSTART:20151212T150000Z
DTEND:20151222T010000Z
X-MICROSOFT-CDO-ALLDAYEVENT:FALSE
SUMMARY:City of Winder Holiday Ice Rink
DESCRIPTION:City of Winder Holiday Ice Rink is fun for the whole family! Times vary each day.
X-ALT-DESC;FMTTYPE=text/html:City of Winder Holiday Ice Rink is fun for the whole family! Times vary each day. &nbsp\;&nbsp\;&nbsp\;&nbsp\;&nbsp\;&nbsp\;&nbsp\;&nbsp\;&nbsp\;&nbsp\;&nbsp\;&nbsp\;&nbsp\;&nbsp\;&nbsp\;&nbsp\;
LOCATION:Downtown Gazebo Park on the corners of N. Broad Street and Candler Street\, Winder\, GA
UID:e.363.5807
SEQUENCE:3
DTSTAMP:20260420T203913Z
URL:https://barrowcm.365dtm.com/events/details/city-of-winder-holiday-ice-rink-12-12-2015-5807
END:VEVENT

END:VCALENDAR
